BEGIN:VCALENDAR
VERSION:2.0
PRODID:-//Fort Monroe - ECPv6.15.20//NONSGML v1.0//EN
CALSCALE:GREGORIAN
METHOD:PUBLISH
X-WR-CALNAME:Fort Monroe
X-ORIGINAL-URL:https://fortmonroe.org
X-WR-CALDESC:Events for Fort Monroe
REFRESH-INTERVAL;VALUE=DURATION:PT1H
X-Robots-Tag:noindex
X-PUBLISHED-TTL:PT1H
BEGIN:VTIMEZONE
TZID:America/New_York
BEGIN:DAYLIGHT
TZOFFSETFROM:-0500
TZOFFSETTO:-0400
TZNAME:EDT
DTSTART:20250309T070000
END:DAYLIGHT
BEGIN:STANDARD
TZOFFSETFROM:-0400
TZOFFSETTO:-0500
TZNAME:EST
DTSTART:20251102T060000
END:STANDARD
BEGIN:DAYLIGHT
TZOFFSETFROM:-0500
TZOFFSETTO:-0400
TZNAME:EDT
DTSTART:20260308T070000
END:DAYLIGHT
BEGIN:STANDARD
TZOFFSETFROM:-0400
TZOFFSETTO:-0500
TZNAME:EST
DTSTART:20261101T060000
END:STANDARD
BEGIN:DAYLIGHT
TZOFFSETFROM:-0500
TZOFFSETTO:-0400
TZNAME:EDT
DTSTART:20270314T070000
END:DAYLIGHT
BEGIN:STANDARD
TZOFFSETFROM:-0400
TZOFFSETTO:-0500
TZNAME:EST
DTSTART:20271107T060000
END:STANDARD
END:VTIMEZONE
BEGIN:VEVENT
DTSTART;TZID=America/New_York:20260313T120000
DTEND;TZID=America/New_York:20260313T130000
DTSTAMP:20260420T073637
CREATED:20260220T155344Z
LAST-MODIFIED:20260302T144909Z
UID:10001969-1773403200-1773406800@fortmonroe.org
SUMMARY:Special Event: Women's History Month Tour
DESCRIPTION:Shoulder to Shoulder: A Legacy for All\nJoin us for an exciting tour where we will celebrate the contributions of women to the history\, culture and community of Fort Monroe. \nThe stories highlight the collective strength and influence of women over time\, impacting the daily lives of soldiers and families\, in defense of our nation. This tour will explore what it takes to have a lasting impact and how these women are an inspiration for future generations. \n  \nFree Tour – Every Friday in March\nStarts at 12pm – 1pm \nVisitor & Education Center \n30 Ingalls Road \nNo registration Required
URL:https://fortmonroe.org/event/special-event-womens-history-month-tour/2026-03-13/
CATEGORIES:Fort Monroe Authority Events,Special Event
ATTACH;FMTTYPE=image/png:https://fortmonroe.org/wp-content/uploads/Tour-Banners.png
ORGANIZER;CN="Rachel Icard":MAILTO:ricard@fortmonroe.org
END:VEVENT
END:VCALENDAR