BEGIN:VCALENDAR
VERSION:2.0
PRODID:-//Fort Monroe - ECPv6.15.20//NONSGML v1.0//EN
CALSCALE:GREGORIAN
METHOD:PUBLISH
X-WR-CALNAME:Fort Monroe
X-ORIGINAL-URL:https://fortmonroe.org
X-WR-CALDESC:Events for Fort Monroe
REFRESH-INTERVAL;VALUE=DURATION:PT1H
X-Robots-Tag:noindex
X-PUBLISHED-TTL:PT1H
BEGIN:VTIMEZONE
TZID:America/New_York
BEGIN:DAYLIGHT
TZOFFSETFROM:-0500
TZOFFSETTO:-0400
TZNAME:EDT
DTSTART:20230312T070000
END:DAYLIGHT
BEGIN:STANDARD
TZOFFSETFROM:-0400
TZOFFSETTO:-0500
TZNAME:EST
DTSTART:20231105T060000
END:STANDARD
BEGIN:DAYLIGHT
TZOFFSETFROM:-0500
TZOFFSETTO:-0400
TZNAME:EDT
DTSTART:20240310T070000
END:DAYLIGHT
BEGIN:STANDARD
TZOFFSETFROM:-0400
TZOFFSETTO:-0500
TZNAME:EST
DTSTART:20241103T060000
END:STANDARD
BEGIN:DAYLIGHT
TZOFFSETFROM:-0500
TZOFFSETTO:-0400
TZNAME:EDT
DTSTART:20250309T070000
END:DAYLIGHT
BEGIN:STANDARD
TZOFFSETFROM:-0400
TZOFFSETTO:-0500
TZNAME:EST
DTSTART:20251102T060000
END:STANDARD
END:VTIMEZONE
BEGIN:VEVENT
DTSTART;TZID=America/New_York:20240215T110000
DTEND;TZID=America/New_York:20240215T120000
DTSTAMP:20260423T054341
CREATED:20240111T223923Z
LAST-MODIFIED:20240111T223923Z
UID:10000683-1707994800-1707998400@fortmonroe.org
SUMMARY:Special Event:  NPS Walking Tour--Gibraltar of the Chesapeake and the Building of a Nation
DESCRIPTION:Join us on a ranger-led walking tour to explore the history of Fort Monroe. Learn about the establishment of the 3rd system\, the role of the “Gibraltar of the Chesapeake” in local and national defense\, and the diverse workforce constructing the largest fortification in the western hemisphere.  Reservations are not required.  Free Admission.  Weather permitting.
URL:https://fortmonroe.org/event/special-event-nps-walking-tour-gibraltar-of-the-chesapeake-and-the-building-of-a-nation-32/
LOCATION:Fort Monroe Visitor & Education Center\, 30 Ingalls Road\, Fort Monroe\, VA\, 23651\, United States
ATTACH;FMTTYPE=image/jpeg:https://fortmonroe.org/wp-content/uploads/NPS-Ranger-led-walking-tour.jpg
GEO:37.0020379;-76.3109485
X-APPLE-STRUCTURED-LOCATION;VALUE=URI;X-ADDRESS=Fort Monroe Visitor & Education Center 30 Ingalls Road Fort Monroe VA 23651 United States;X-APPLE-RADIUS=500;X-TITLE=30 Ingalls Road:geo:-76.3109485,37.0020379
END:VEVENT
BEGIN:VEVENT
DTSTART;TZID=America/New_York:20240215T130000
DTEND;TZID=America/New_York:20240215T160000
DTSTAMP:20260423T054341
CREATED:20231204T194151Z
LAST-MODIFIED:20240208T202847Z
UID:10000647-1708002000-1708012800@fortmonroe.org
SUMMARY:Public Meeting:  Fort Monroe Authority Board of Trustees Meeting--Richmond\, VA
DESCRIPTION:Date and Time:  February 15\, 2024  1 pm. \nLocation:  1111 E. Broad Street Richmond\, VA  23219  Patrick Henry Building East Reading Room \nParking:  There is limited public parking near the Virginia State Capitol and the Patrick Henry Building.  The Virginia General Assembly website has information with directions and parking information near the State Capitol:  Directions and Parking information for the State Capitol  and additional information for nearby paid parking lots:  Paid Parking lots near State Capitol  \nAgenda and documents
URL:https://fortmonroe.org/event/public-meeting-fort-monroe-authority-board-of-trustees-meeting-richmond-va-2/
CATEGORIES:Public Meeting
ORGANIZER;CN="Phyllis Terrell":MAILTO:PTERRELL@FORTMONROE.ORG
END:VEVENT
END:VCALENDAR